BEGIN:VCALENDAR
VERSION:2.0
PRODID:-//RiverKnits - ECPv6.7.1//NONSGML v1.0//EN
CALSCALE:GREGORIAN
METHOD:PUBLISH
X-ORIGINAL-URL:https://www.riverknits.co.uk
X-WR-CALDESC:Events for RiverKnits
REFRESH-INTERVAL;VALUE=DURATION:PT1H
X-Robots-Tag:noindex
X-PUBLISHED-TTL:PT1H
BEGIN:VTIMEZONE
TZID:Europe/London
BEGIN:DAYLIGHT
TZOFFSETFROM:+0000
TZOFFSETTO:+0100
TZNAME:BST
DTSTART:20260329T010000
END:DAYLIGHT
BEGIN:STANDARD
TZOFFSETFROM:+0100
TZOFFSETTO:+0000
TZNAME:GMT
DTSTART:20261025T010000
END:STANDARD
END:VTIMEZONE
BEGIN:VEVENT
DTSTART;TZID=Europe/London:20260118T100000
DTEND;TZID=Europe/London:20260118T170000
DTSTAMP:20260421T145007
CREATED:20250917T123801Z
LAST-MODIFIED:20250917T123801Z
UID:14700-1768730400-1768755600@www.riverknits.co.uk
SUMMARY:Waltham Abbey Wool Show
DESCRIPTION:Waltham Abbey Wool show is organised by Diana (Crochet Chain). It is a wonderful one day show in the Delta Marriott Hotel. A very well curated show with lovely exhibitors in a warm and welcoming venue.
URL:https://www.riverknits.co.uk/event/waltham-abbey-wool-show/
LOCATION:Waltham Abbey Delta Marriott Hotel\, Old Shire Lane\, Waltham Abbey\, EN9 3LX\, United Kingdom
CATEGORIES:Yarn Shows
ATTACH;FMTTYPE=image/jpeg:https://www.riverknits.co.uk/wp-content/uploads/2025/09/10th-logo-3.jpg
ORGANIZER;CN="Waltham Abbey Wool Show":MAILTO:info@walthamabbeywoolshow.co.uk
END:VEVENT
END:VCALENDAR