BEGIN:VCALENDAR
VERSION:2.0
PRODID:-//RiverKnits - ECPv6.7.1//NONSGML v1.0//EN
CALSCALE:GREGORIAN
METHOD:PUBLISH
X-ORIGINAL-URL:https://www.riverknits.co.uk
X-WR-CALDESC:Events for RiverKnits
REFRESH-INTERVAL;VALUE=DURATION:PT1H
X-Robots-Tag:noindex
X-PUBLISHED-TTL:PT1H
BEGIN:VTIMEZONE
TZID:Europe/London
BEGIN:DAYLIGHT
TZOFFSETFROM:+0000
TZOFFSETTO:+0100
TZNAME:BST
DTSTART:20260329T010000
END:DAYLIGHT
BEGIN:STANDARD
TZOFFSETFROM:+0100
TZOFFSETTO:+0000
TZNAME:GMT
DTSTART:20261025T010000
END:STANDARD
END:VTIMEZONE
BEGIN:VEVENT
DTSTART;TZID=Europe/London:20260313T090000
DTEND;TZID=Europe/London:20260313T160000
DTSTAMP:20260422T095336
CREATED:20251216T142432Z
LAST-MODIFIED:20251217T110805Z
UID:15027-1773392400-1773417600@www.riverknits.co.uk
SUMMARY:RiverKnits Variegated Yarn Dyeing Workshop
DESCRIPTION:Ever fancied dyeing your own yarn but not sure where to start? Or perhaps you’re on the look out for a fun day out with your yarn-loving friends? Join Becci in the RiverKnits dye studio and create your own personalised variegated colourway. \nYou will cover the basics of yarn dyeing with specific attention to techniques for variegated yarn. All equipment is provided on the day. 200g of un-dyed Bluefaced Leicester wool yarn is included in the cost of the course\, although you will have the opportunity to purchase more before the day starts. \nWe will provide hot and cold drinks and biscuits during the day. Please bring your own lunch. \nBook your place\n\n\n	Variegated Yarn Dyeing Workshop – 13th March 2025\n	£90.00\nAdd to cart
URL:https://www.riverknits.co.uk/event/riverknits-variegated-yarn-dyeing-workshop-4/
LOCATION:RiverKnits\, Building 5\, The Old Depot\, Bridge Street\, Weedon Bec\, Northamptonshire\, NN7 4PS\, United Kingdom
CATEGORIES:Workshops
ATTACH;FMTTYPE=image/jpeg:https://www.riverknits.co.uk/wp-content/uploads/2024/01/VariegatedYarnWorkshop.jpg
ORGANIZER;CN="RiverKnits":MAILTO:info@riverknits.co.uk
END:VEVENT
END:VCALENDAR